BEGIN:VCALENDAR
VERSION:2.0
PRODID:-//You Grow Girl! - ECPv6.3.7//NONSGML v1.0//EN
CALSCALE:GREGORIAN
METHOD:PUBLISH
X-WR-CALNAME:You Grow Girl!
X-ORIGINAL-URL:https://www.yougrowgirl.org
X-WR-CALDESC:Events for You Grow Girl!
REFRESH-INTERVAL;VALUE=DURATION:PT1H
X-Robots-Tag:noindex
X-PUBLISHED-TTL:PT1H
BEGIN:VTIMEZONE
TZID:UTC
BEGIN:STANDARD
TZOFFSETFROM:+0000
TZOFFSETTO:+0000
TZNAME:UTC
DTSTART:20150101T000000
END:STANDARD
END:VTIMEZONE
BEGIN:VEVENT
DTSTART;TZID=UTC:20150417T181500
DTEND;TZID=UTC:20150417T223000
DTSTAMP:20260423T183513
CREATED:20150317T205207Z
LAST-MODIFIED:20150317T205840Z
UID:388-1429294500-1429309800@www.yougrowgirl.org
SUMMARY:Girls' Night In
DESCRIPTION:Not like our usual late night drop in\, it’s our Girls’ Night In: Slumber Party edition. That’s right we lock the doors at 6:30pm and won’t open until 10:30pm or until your parent/guardian picks you up. From girl talk\, movies\, yummy snacks to a different arts & crafts activity each month you won’t be bored! You can even wear your favorite pajamas. So grab your girlfriends for the ultimate night in. \nSpace is limited to register early to make sure you don’t miss out on the fun! \nGirls’ Night In is held on the 3rd Friday of each month
URL:https://www.yougrowgirl.org/calendar-event/girls-night-in/
LOCATION:You Grow Girl! (South)\, 2200 Rainier Ave S\, Suite 201\, Seattle\, WA\, 98144\, United States
END:VEVENT
BEGIN:VEVENT
DTSTART;TZID=UTC:20150413T100000
DTEND;TZID=UTC:20150417T160000
DTSTAMP:20260423T183513
CREATED:20150316T214003Z
LAST-MODIFIED:20150317T203352Z
UID:358-1428919200-1429286400@www.yougrowgirl.org
SUMMARY:D.I.Y. Girl!
DESCRIPTION:D.I.Y. Girl! will be offered at two locations: \nNorth Seattle: 8309 5th Ave NE\, 98115 \nSouth Seattle: 2200 Rainier Ave S\, 98144 \nCamp is held Monday – Friday from 10:00am to 4:00pm
URL:https://www.yougrowgirl.org/calendar-event/d-i-y-girl/
LOCATION:You Grow Girl! (South)\, 2200 Rainier Ave S\, Suite 201\, Seattle\, WA\, 98144\, United States
END:VEVENT
END:VCALENDAR