BEGIN:VCALENDAR
VERSION:2.0
PRODID:-//You Grow Girl! - ECPv6.3.7//NONSGML v1.0//EN
CALSCALE:GREGORIAN
METHOD:PUBLISH
X-ORIGINAL-URL:https://www.yougrowgirl.org
X-WR-CALDESC:Events for You Grow Girl!
REFRESH-INTERVAL;VALUE=DURATION:PT1H
X-Robots-Tag:noindex
X-PUBLISHED-TTL:PT1H
BEGIN:VTIMEZONE
TZID:America/Los_Angeles
BEGIN:DAYLIGHT
TZOFFSETFROM:-0800
TZOFFSETTO:-0700
TZNAME:PDT
DTSTART:20210314T100000
END:DAYLIGHT
BEGIN:STANDARD
TZOFFSETFROM:-0700
TZOFFSETTO:-0800
TZNAME:PST
DTSTART:20211107T090000
END:STANDARD
END:VTIMEZONE
BEGIN:VEVENT
DTSTART;TZID=America/Los_Angeles:20210804T140000
DTEND;TZID=America/Los_Angeles:20210922T160000
DTSTAMP:20260423T112036
CREATED:20210709T022503Z
LAST-MODIFIED:20210709T202636Z
UID:1958-1628085600-1632326400@www.yougrowgirl.org
SUMMARY:Black Girlhood
DESCRIPTION:Held via Zoom every Wednesday started August 4 – September 22\, 2021 from 2pm to 4pm PST. \nFor providers and professional serving Black girls and young women throughout Washington State. \nRSVP online before Thursday\, July 29
URL:https://www.yougrowgirl.org/calendar-event/black-girlhood/
LOCATION:Zoom
END:VEVENT
BEGIN:VEVENT
DTSTART;TZID=America/Los_Angeles:20210816T100000
DTEND;TZID=America/Los_Angeles:20210820T160000
DTSTAMP:20260423T112036
CREATED:20210709T021713Z
LAST-MODIFIED:20210724T162950Z
UID:1952-1629108000-1629475200@www.yougrowgirl.org
SUMMARY:Goddess: Using Art As Empowerment
DESCRIPTION:This week-long day camp is designed specifically for girls entering sixth grade.  \nTransitioning into middle school can be both exciting and scary at the same time. This camp will experiment with different art materials to explore and define your unique and personal self-expression. Gain new skills that will have you walking through those halls with confidence and authenticity!  \nSpace is limited with only 6 spots. Register online today!  \n** Sorry this camp is full **
URL:https://www.yougrowgirl.org/calendar-event/goddess-using-art-as-empowerment/
LOCATION:You Grow Girl!\, WA\, United States
END:VEVENT
END:VCALENDAR